BEGIN:VCALENDAR
VERSION:2.0
PRODID:-//Pépites de Femmes - ECPv6.15.18//NONSGML v1.0//EN
CALSCALE:GREGORIAN
METHOD:PUBLISH
X-WR-CALNAME:Pépites de Femmes
X-ORIGINAL-URL:https://www.asso-pepitesdefemmes.fr
X-WR-CALDESC:Évènements pour Pépites de Femmes
REFRESH-INTERVAL;VALUE=DURATION:PT1H
X-Robots-Tag:noindex
X-PUBLISHED-TTL:PT1H
BEGIN:VTIMEZONE
TZID:Europe/Paris
BEGIN:DAYLIGHT
TZOFFSETFROM:+0100
TZOFFSETTO:+0200
TZNAME:CEST
DTSTART:20240331T010000
END:DAYLIGHT
BEGIN:STANDARD
TZOFFSETFROM:+0200
TZOFFSETTO:+0100
TZNAME:CET
DTSTART:20241027T010000
END:STANDARD
BEGIN:DAYLIGHT
TZOFFSETFROM:+0100
TZOFFSETTO:+0200
TZNAME:CEST
DTSTART:20250330T010000
END:DAYLIGHT
BEGIN:STANDARD
TZOFFSETFROM:+0200
TZOFFSETTO:+0100
TZNAME:CET
DTSTART:20251026T010000
END:STANDARD
BEGIN:DAYLIGHT
TZOFFSETFROM:+0100
TZOFFSETTO:+0200
TZNAME:CEST
DTSTART:20260329T010000
END:DAYLIGHT
BEGIN:STANDARD
TZOFFSETFROM:+0200
TZOFFSETTO:+0100
TZNAME:CET
DTSTART:20261025T010000
END:STANDARD
END:VTIMEZONE
BEGIN:VEVENT
DTSTART;TZID=Europe/Paris:20251216T203000
DTEND;TZID=Europe/Paris:20251216T223000
DTSTAMP:20260425T134430
CREATED:20251117T101926Z
LAST-MODIFIED:20251117T102033Z
UID:3291-1765917000-1765924200@www.asso-pepitesdefemmes.fr
SUMMARY:Cocktail de fin d'année
DESCRIPTION:Chères Pépites\, \nNous avons le plaisir de vous inviter à la soirée de clôture de l’année “Pépites de Femmes”\, un moment pour célébrer ensemble les réussites\, les talents et l’énergie inspirante des femmes qui font briller notre communauté. \n\n\n\nAu programme :💫 Rétrospective : Retour sur une année riche en rencontres\, projets et initiatives inspirantes.🎤 Témoignages & échanges : Des femmes qui partagent leur parcours\, leurs challenges et leurs succès.🎶 Ambiance conviviale et festive : Cocktail et moments de networking pour terminer l’année en beauté. \nC’est l’occasion parfaite pour se retrouver\, se féliciter et se projeter vers une nouvelle année pleine d’opportunités et de collaborations.
URL:https://www.asso-pepitesdefemmes.fr/agenda/cocktail-de-fin-dannee/
LOCATION:Espace coworking\, Rue Jean Moine\, Vaugneray\, 69670
CATEGORIES:Evénement
ATTACH;FMTTYPE=image/jpeg:https://www.asso-pepitesdefemmes.fr/wp-content/uploads/2025/11/2149074001.jpg
END:VEVENT
END:VCALENDAR